BEGIN:VCALENDAR
VERSION:2.0
PRODID:-//wp-events-plugin.com//6.6.3//EN
TZID:Europe/Paris
X-WR-TIMEZONE:Europe/Paris
BEGIN:VEVENT
UID:33@smac-lavier.org
DTSTART;TZID=Europe/Paris:20250703T183000
DTEND;TZID=Europe/Paris:20250703T200000
DTSTAMP:20250620T135257Z
URL:https://www.smac-lavier.org/evenements/visioconference/
SUMMARY:Visioconférence
DESCRIPTION:Etude étymologique des points de la péridromie U à partir de
  U11.
ATTACH;FMTTYPE=image/jpeg:https://www.smac-lavier.org/wp-content/uploads/2
 024/12/bandeau_ja_lavier.jpg
CATEGORIES:Visioconférence
END:VEVENT
BEGIN:VTIMEZONE
TZID:Europe/Paris
X-LIC-LOCATION:Europe/Paris
BEGIN:DAYLIGHT
DTSTART:20250330T030000
TZOFFSETFROM:+0100
TZOFFSETTO:+0200
TZNAME:CEST
END:DAYLIGHT
END:VTIMEZONE
END:VCALENDAR