BEGIN:VCALENDAR
VERSION:2.0
PRODID:-//wp-events-plugin.com//6.6.3//EN
TZID:Europe/Paris
X-WR-TIMEZONE:Europe/Paris
BEGIN:VEVENT
UID:19@smac-lavier.org
DTSTART;TZID=Europe/Paris:20241017T183000
DTEND;TZID=Europe/Paris:20241017T193000
DTSTAMP:20241223T064125Z
URL:https://www.smac-lavier.org/evenements/reunion-en-visioconference-le-1
 7-octobre-2024/
SUMMARY:Réunion en visioconférence | le 17 octobre 2024
DESCRIPTION:Programme\nNous consacrerons la réunion à l’étude étymolo
 gique des points de la péridromie L à partir de L11.\n\nLes identifiants
  permettant d’accéder à la réunion par Zoom seront envoyés par mail 
 à tous nos adhérents.
ATTACH;FMTTYPE=image/jpeg:https://www.smac-lavier.org/wp-content/uploads/2
 024/12/visuel_reunion_smac.jpg
CATEGORIES:Réunions en visioconférence
END:VEVENT
BEGIN:VTIMEZONE
TZID:Europe/Paris
X-LIC-LOCATION:Europe/Paris
BEGIN:DAYLIGHT
DTSTART:20240331T030000
TZOFFSETFROM:+0100
TZOFFSETTO:+0200
TZNAME:CEST
END:DAYLIGHT
END:VTIMEZONE
END:VCALENDAR