BEGIN:VCALENDAR
VERSION:2.0
PRODID:-//wp-events-plugin.com//6.6.3//EN
TZID:Europe/Paris
X-WR-TIMEZONE:Europe/Paris
BEGIN:VEVENT
UID:1@smac-lavier.org
DTSTART;TZID=Europe/Paris:20240307T183000
DTEND;TZID=Europe/Paris:20240307T193000
DTSTAMP:20251026T104554Z
URL:https://www.smac-lavier.org/evenements/reunion-en-visioconference-le-0
 7-mars-2024/
SUMMARY:Réunion en visioconférence | le 07 mars 2024
DESCRIPTION:Programme\nNous consacrerons la réunion à l’étude étymolo
 gique des points de la péridromie D.\n\nLes identifiants permettant d’a
 ccéder à la réunion par Zoom seront envoyés par mail à tous nos adhé
 rents.
ATTACH;FMTTYPE=image/jpeg:https://www.smac-lavier.org/wp-content/uploads/2
 024/12/visuel_reunion_smac.jpg
CATEGORIES:Réunions en visioconférence
END:VEVENT
BEGIN:VTIMEZONE
TZID:Europe/Paris
X-LIC-LOCATION:Europe/Paris
BEGIN:STANDARD
DTSTART:20231029T020000
TZOFFSETFROM:+0200
TZOFFSETTO:+0100
TZNAME:CET
END:STANDARD
END:VTIMEZONE
END:VCALENDAR