BEGIN:VCALENDAR
VERSION:2.0
PRODID:-//wp-events-plugin.com//6.6.3//EN
TZID:Europe/Paris
X-WR-TIMEZONE:Europe/Paris
BEGIN:VEVENT
UID:32@smac-lavier.org
DTSTART;TZID=Europe/Paris:20250619T183000
DTEND;TZID=Europe/Paris:20250619T200000
DTSTAMP:20250510T133814Z
URL:https://www.smac-lavier.org/evenements/reunion-en-visioconference-4/
SUMMARY:Réunion en visioconférence
DESCRIPTION:Nous étudierons la suite de la péridromie U.\nLes codes d'acc
 ès seront envoyés individuellement aux adhérents à jour de leur cotisa
 tion.
ATTACH;FMTTYPE=image/jpeg:https://www.smac-lavier.org/wp-content/uploads/2
 024/12/bandeau_ja_lavier.jpg
CATEGORIES:Réunions en visioconférence
END:VEVENT
BEGIN:VTIMEZONE
TZID:Europe/Paris
X-LIC-LOCATION:Europe/Paris
BEGIN:DAYLIGHT
DTSTART:20250330T030000
TZOFFSETFROM:+0100
TZOFFSETTO:+0200
TZNAME:CEST
END:DAYLIGHT
END:VTIMEZONE
END:VCALENDAR