BEGIN:VCALENDAR
VERSION:2.0
PRODID:-//wp-events-plugin.com//6.6.3//EN
TZID:Europe/Paris
X-WR-TIMEZONE:Europe/Paris
BEGIN:VEVENT
UID:29@smac-lavier.org
DTSTART;TZID=Europe/Paris:20250424T183000
DTEND;TZID=Europe/Paris:20250424T200000
DTSTAMP:20250401T165656Z
URL:https://www.smac-lavier.org/evenements/reunion-en-visioconference-3/
SUMMARY:Réunion en visioconférence
DESCRIPTION:La réunion sera consacrée à l'étude étymologique des noms 
 des points de la péridromie U\, de U1 à U10.\nLes codes d'accès à la r
 éunion seront envoyés individuellement aux adhérents.
ATTACH;FMTTYPE=image/jpeg:https://www.smac-lavier.org/wp-content/uploads/2
 024/12/bandeau_ja_lavier.jpg
CATEGORIES:Réunions en visioconférence
END:VEVENT
BEGIN:VTIMEZONE
TZID:Europe/Paris
X-LIC-LOCATION:Europe/Paris
BEGIN:DAYLIGHT
DTSTART:20250330T030000
TZOFFSETFROM:+0100
TZOFFSETTO:+0200
TZNAME:CEST
END:DAYLIGHT
END:VTIMEZONE
END:VCALENDAR