BEGIN:VCALENDAR
VERSION:2.0
PRODID:-//wp-events-plugin.com//6.6.3//EN
TZID:Europe/Paris
X-WR-TIMEZONE:Europe/Paris
BEGIN:VEVENT
UID:28@smac-lavier.org
DTSTART;TZID=Europe/Paris:20250313T183000
DTEND;TZID=Europe/Paris:20250313T200000
DTSTAMP:20250222T110513Z
URL:https://www.smac-lavier.org/evenements/reunion-en-visioconference-2/
SUMMARY:Réunion en visioconférence
DESCRIPTION:La prochaine réunion Zoom sera consacrée à l'étude étymolo
 gique des points de la péridromie A à partir de A11.\nLes codes d'accès
  de la réunion seront communiqués aux membres à jour de leur cotisation
 .
ATTACH;FMTTYPE=image/jpeg:https://www.smac-lavier.org/wp-content/uploads/2
 024/12/visuel_reunion_smac.jpg
CATEGORIES:Réunions en visioconférence
END:VEVENT
BEGIN:VTIMEZONE
TZID:Europe/Paris
X-LIC-LOCATION:Europe/Paris
BEGIN:STANDARD
DTSTART:20241027T020000
TZOFFSETFROM:+0200
TZOFFSETTO:+0100
TZNAME:CET
END:STANDARD
END:VTIMEZONE
END:VCALENDAR