BEGIN:VCALENDAR
VERSION:2.0
PRODID:-//wp-events-plugin.com//6.6.3//EN
TZID:Europe/Paris
X-WR-TIMEZONE:Europe/Paris
BEGIN:VEVENT
UID:22@smac-lavier.org
DTSTART;TZID=Europe/Paris:20241003T090000
DTEND;TZID=Europe/Paris:20241005T180000
DTSTAMP:20241219T102654Z
URL:https://www.smac-lavier.org/evenements/reunion-de-formation-continue-d
 u-3-au-5-octobre-2024/
SUMMARY:Réunion de formation continue | du 3 au 5 octobre 2024
DESCRIPTION:Programme de la réunion\nJeudi 3 Octobre: Journée consacrée 
 à l'Institut\nTraduction des chapitres 2 et 5 du Nei Tching Sou Wen (Chap
 itres importants).\nVendredi 4 Octobre:\n\n 	Yi Tching (Laurent Thomas)\n\
 nVendredi 4 octobre:\n\n 	Points du T'ai Tchi Tchuan\, Chen et Kwei (Patri
 ce Fournier)\n 	L'énergie (Jean Fabre).\n 	Ciels de naissance et autres (
 Patrick Haenni - Ne pas oublier vos astrolabes et éphémérides)\n 	Quali
 té des pouls et modalités du T'ai Tchi Tchuan (Michel Ricodeau)\n
ATTACH;FMTTYPE=image/jpeg:https://www.smac-lavier.org/wp-content/uploads/2
 024/12/visuel_avignon.jpg
CATEGORIES:Réunion de formation continue
LOCATION:Novotel Avignon (84)\, 20 boulevard Saint-Roch Tel : 04 32 74 70 0
 0\, Avignon\, 84000\, France
GEO:43.942661;4.802257
X-APPLE-STRUCTURED-LOCATION;VALUE=URI;X-ADDRESS=20 boulevard Saint-Roch Tel
  : 04 32 74 70 00\, Avignon\, 84000\, France;X-APPLE-RADIUS=100;X-TITLE=No
 votel Avignon (84):geo:43.942661,4.802257
END:VEVENT
BEGIN:VTIMEZONE
TZID:Europe/Paris
X-LIC-LOCATION:Europe/Paris
BEGIN:DAYLIGHT
DTSTART:20240331T030000
TZOFFSETFROM:+0100
TZOFFSETTO:+0200
TZNAME:CEST
END:DAYLIGHT
END:VTIMEZONE
END:VCALENDAR