BEGIN:VCALENDAR
VERSION:2.0
PRODID:-//wp-events-plugin.com//6.6.3//EN
TZID:Europe/Paris
X-WR-TIMEZONE:Europe/Paris
BEGIN:VEVENT
UID:3@smac-lavier.org
DTSTART;TZID=Europe/Paris:20240502T090000
DTEND;TZID=Europe/Paris:20240504T170000
DTSTAMP:20241219T102617Z
URL:https://www.smac-lavier.org/evenements/reunion-de-formation-continue-d
 u-2-au-4-mai-2024/
SUMMARY:Réunion de formation continue | du 2 au 4 mai 2024
DESCRIPTION:Programme de la réunion\nJeudi 2 Mai: Institut\nVendredi 3 Mai
  matin:\n\n 	Cas cliniques\n 	Dysautonomies par B. Sabouret\n 	Les Pa Fa\,
  localisation et péridromies par A. Guillemaud.\n\nVendredi 3 Mai après-
 midi:\n\n 	Le chemin de Compostelle par Francis Gasq.\n 	Obésité\, méca
 nisme physiopathologique et le Métal dans tous ses états par J. Fabre.\n
  	Alchimie pour soi par P. Fournier.\n\nVendredi 3 Mai 18 heures: Assembl
 ée Générale\nSamedi 4 Mai matin:\n\n 	Pouls qualitatifs et syntopes par
  P. Haenni.\n 	Les aiguilles présentées par Francis Gasq.\n 	Points Kwei
  et Chen par P. Fournier.\n\nSamedi 4 Mai après-midi:\n\n 	Observation du
  Ciel (2)\, éphémérides et astrolabe par P. Haenni.\n 	Etude des textes
  chinois et les caractères anciens\, lecture d’un texte de J.A. Lavier 
 par M. Ricodeau.\n 	Nom des points.\n
ATTACH;FMTTYPE=image/jpeg:https://www.smac-lavier.org/wp-content/uploads/2
 024/12/visuel_avignon.jpg
CATEGORIES:Réunion de formation continue
LOCATION:Novotel Avignon (84)\, 20 boulevard Saint-Roch Tel : 04 32 74 70 0
 0\, Avignon\, 84000\, France
GEO:43.942661;4.802257
X-APPLE-STRUCTURED-LOCATION;VALUE=URI;X-ADDRESS=20 boulevard Saint-Roch Tel
  : 04 32 74 70 00\, Avignon\, 84000\, France;X-APPLE-RADIUS=100;X-TITLE=No
 votel Avignon (84):geo:43.942661,4.802257
END:VEVENT
BEGIN:VTIMEZONE
TZID:Europe/Paris
X-LIC-LOCATION:Europe/Paris
BEGIN:DAYLIGHT
DTSTART:20240331T030000
TZOFFSETFROM:+0100
TZOFFSETTO:+0200
TZNAME:CEST
END:DAYLIGHT
END:VTIMEZONE
END:VCALENDAR