BEGIN:VCALENDAR
VERSION:2.0
PRODID:-//wp-events-plugin.com//6.6.3//EN
TZID:Europe/Paris
X-WR-TIMEZONE:Europe/Paris
BEGIN:VEVENT
UID:35@smac-lavier.org
DTSTART;TZID=Europe/Paris:20260514T090000
DTEND;TZID=Europe/Paris:20260516T180000
DTSTAMP:20260406T161506Z
URL:https://www.smac-lavier.org/evenements/reunion-de-formation-continue-3
 /
SUMMARY:Réunion de formation continue
DESCRIPTION:Jeudi :\n- Traduction du chapitre 4 du 內經素問 Nei Tching 
 Sou Wen\nVendredi matin :\n- Étude de cas cliniques.\n- Repères anatomiq
 ues des points du dos. (Caroline Sander)\n- 洪範 Hong Fan. (Martine Pier
 ron)\nVendredi après-midi :\n- Phytothérapie. (Patrice Fournier)\n- Repr
 ise de l'organigramme décisionnel. (Michel Ricodeau)\n- Les points 兪 Yu
  et  响 Hsiang. (Agnès Perrier)\nSamedi matin :\n- 8h30 : Pratique de l
 a prise des pouls.\n- Couleurs de l'année. (Patrick Haenni)\n- Agents phy
 siques en acupuncture. (Martine Pierron)\nSamedi après-midi :\n- Médecin
 e et Tradition. (Michel Ricodeau)\n- Noms des points. (Francis Gasq et Mar
 tine Pierron)
ATTACH;FMTTYPE=image/jpeg:https://www.smac-lavier.org/wp-content/uploads/2
 025/10/visu-rodez.png
CATEGORIES:Réunion de formation continue
LOCATION:Hôtel Concorde\, 14 Rue Béteille\, Téléphone :  05 65 68 31 61
 \, Rodez\, 12000\, France
GEO:44.351946;2.572965
X-APPLE-STRUCTURED-LOCATION;VALUE=URI;X-ADDRESS=14 Rue Béteille\, Téléph
 one :  05 65 68 31 61\, Rodez\, 12000\, France;X-APPLE-RADIUS=100;X-TITLE=
 Hôtel Concorde:geo:44.351946,2.572965
END:VEVENT
BEGIN:VTIMEZONE
TZID:Europe/Paris
X-LIC-LOCATION:Europe/Paris
BEGIN:DAYLIGHT
DTSTART:20260329T030000
TZOFFSETFROM:+0100
TZOFFSETTO:+0200
TZNAME:CEST
END:DAYLIGHT
END:VTIMEZONE
END:VCALENDAR