BEGIN:VCALENDAR
VERSION:2.0
PRODID:-//wp-events-plugin.com//6.6.3//EN
TZID:Europe/Paris
X-WR-TIMEZONE:Europe/Paris
BEGIN:VEVENT
UID:31@smac-lavier.org
DTSTART;TZID=Europe/Paris:20251009T090000
DTEND;TZID=Europe/Paris:20251011T180000
DTSTAMP:20250915T161604Z
URL:https://www.smac-lavier.org/evenements/reunion-de-formation-continue-2
 /
SUMMARY:Réunion de formation continue
DESCRIPTION:Programme :\nJeudi 9 Octobre : La journée est consacrée au tr
 avail de l'Institut.\nTraduction du chapitre 58 du 內經素問 Nei Tching
  Sou Wen.\nVendredi 10 Octobre : \n- Etude de cas cliniques (P.Haenni)\n-
  Les points extra-dromiques aux Urgences (D. Mertad)\n- Etude de 逆 Ni\, 
 énergie rebelle (M. Pierron)\n- Points 神 Chen (P. Fournier)\n- Assembl
 ée Générale extraordinaire.\nSamedi 11 Octobre :\n- Atelier de prise de
  pouls (M. Ricodeau)\n- Connaissance des cryptodromies (A. Guillemaud)\n- 
 Mutation des hexagrammes (P. Fournier)\n- Un livre sur une génération de
  médecins chinois (B. Sabouret)\n- Etude étymologiques des noms de point
  (F. Gasq et M. Pierron)\n&nbsp\;\n\n&nbsp\;
ATTACH;FMTTYPE=image/jpeg:https://www.smac-lavier.org/wp-content/uploads/2
 025/04/visu_lyon.jpg
CATEGORIES:Réunion de formation continue
LOCATION:Résidence Ôtelia\, 200 Avenue Berthelot\, 7 Rue Jean Gay Tel : 0
 4.37.37.21.62\, Lyon\, 69007\, 
GEO:45.74087;4.854905
X-APPLE-STRUCTURED-LOCATION;VALUE=URI;X-ADDRESS=200 Avenue Berthelot\, 7 Ru
 e Jean Gay Tel : 04.37.37.21.62\, Lyon\, 69007\, ;X-APPLE-RADIUS=100;X-TIT
 LE=Résidence Ôtelia:geo:45.74087,4.854905
END:VEVENT
BEGIN:VTIMEZONE
TZID:Europe/Paris
X-LIC-LOCATION:Europe/Paris
BEGIN:DAYLIGHT
DTSTART:20250330T030000
TZOFFSETFROM:+0100
TZOFFSETTO:+0200
TZNAME:CEST
END:DAYLIGHT
END:VTIMEZONE
END:VCALENDAR