BEGIN:VCALENDAR
VERSION:2.0
PRODID:-//wp-events-plugin.com//6.6.3//EN
TZID:Europe/Paris
X-WR-TIMEZONE:Europe/Paris
BEGIN:VEVENT
UID:34@smac-lavier.org
DTSTART;TZID=Europe/Paris:20260122T090000
DTEND;TZID=Europe/Paris:20260124T180000
DTSTAMP:20260115T090416Z
URL:https://www.smac-lavier.org/evenements/reunion-annuelle-de-linstitut-l
 avier/
SUMMARY:Réunion annuelle de l'Institut Lavier
DESCRIPTION:Traduction des chapitres 2 et 5 du 內經素問 Nei Tching Sou 
 Wen\nLa réunion se terminera à midi le samedi 24 janvier.
ATTACH;FMTTYPE=image/jpeg:https://www.smac-lavier.org/wp-content/uploads/2
 025/10/visu-rodez.jpg
CATEGORIES:Réunion annuelle de l'Institut Lavier
LOCATION:Hôtel Biney\, 4 Rue Victoire Massol\, Rodez\, 12000\, 
GEO:44.350349;2.57293
X-APPLE-STRUCTURED-LOCATION;VALUE=URI;X-ADDRESS=4 Rue Victoire Massol\, Rod
 ez\, 12000\, ;X-APPLE-RADIUS=100;X-TITLE=Hôtel Biney:geo:44.350349,2.5729
 3
END:VEVENT
BEGIN:VTIMEZONE
TZID:Europe/Paris
X-LIC-LOCATION:Europe/Paris
BEGIN:STANDARD
DTSTART:20251026T020000
TZOFFSETFROM:+0200
TZOFFSETTO:+0100
TZNAME:CET
END:STANDARD
END:VTIMEZONE
END:VCALENDAR