BEGIN:VCALENDAR
VERSION:2.0
PRODID:-//wp-events-plugin.com//6.6.3//EN
TZID:Europe/Paris
X-WR-TIMEZONE:Europe/Paris
BEGIN:VEVENT
UID:21@smac-lavier.org
DTSTART;TZID=Europe/Paris:20250116T090000
DTEND;TZID=Europe/Paris:20250118T180000
DTSTAMP:20241227T201032Z
URL:https://www.smac-lavier.org/evenements/reunion-annuelle-de-linstitut-l
 avier-du-16-au-18-janvier-2025/
SUMMARY:Réunion annuelle de l'Institut Lavier | du 16 au 18 janvier 2025
DESCRIPTION:Programme\n(Du 16 janvier 9h00 au 18 janvier 12h00)\nNous tradu
 irons les chapitres 5 et 45 du 黃帝內經素問 Nei Tching Sou Wen.
ATTACH;FMTTYPE=image/jpeg:https://www.smac-lavier.org/wp-content/uploads/2
 024/12/visuel_avignon.jpg
CATEGORIES:Réunion annuelle de l'Institut Lavier
LOCATION:Hôtel Ibis Avignon centre gare (84)\, 42 boulevard Saint-Roch\, A
 vignon\, 84000\, France
GEO:43.942089;4.80678
X-APPLE-STRUCTURED-LOCATION;VALUE=URI;X-ADDRESS=42 boulevard Saint-Roch\, A
 vignon\, 84000\, France;X-APPLE-RADIUS=100;X-TITLE=Hôtel Ibis Avignon cen
 tre gare (84):geo:43.942089,4.80678
END:VEVENT
BEGIN:VTIMEZONE
TZID:Europe/Paris
X-LIC-LOCATION:Europe/Paris
BEGIN:STANDARD
DTSTART:20241027T020000
TZOFFSETFROM:+0200
TZOFFSETTO:+0100
TZNAME:CET
END:STANDARD
END:VTIMEZONE
END:VCALENDAR