BEGIN:VCALENDAR
VERSION:2.0
PRODID:-//wp-events-plugin.com//6.6.3//EN
TZID:Europe/Paris
X-WR-TIMEZONE:Europe/Paris
BEGIN:VEVENT
UID:17@smac-lavier.org
DTSTART;TZID=Europe/Paris:20240315T090000
DTEND;TZID=Europe/Paris:20240317T120000
DTSTAMP:20241219T102604Z
URL:https://www.smac-lavier.org/evenements/formation-de-base-2eme-cycle-du
 -15-au-17-mars-2024/
SUMMARY:Formation de base: 2ème cycle | du 15 au 17 mars 2024
DESCRIPTION:Programme du 2ème cycle de base\nLe 2ème cycle comporte bien 
 entendu quelques révisions.\n\nIl sert à répondre aux premières questi
 ons que se pose l’étudiant qui aura entre-temps et tout naturellement a
 ppliqué les aiguilles\, les cautérisations\, ou la technique pédiatriqu
 e.\nOutre ces révisions\, ce cycle aborde de façon plus spécifique l’
 agencement des points d’acupuncture\, ceci afin de comprendre les connex
 ions entre chaque partie du corps humain\, et également les liens avec le
 s fonctions organiques sous-jacentes.\n\nUne place importante est égaleme
 nt faite à l’approche des manifestations émotionnelles et leurs retent
 issements sur la physiologie. Ce cycle donne les moyens de les traiter.\nF
 ormateurs\nLa formation est assurée par les Drs. Francis Gasq et Patrice 
 Fournier.\nTarif\nLe prix du séminaire est de 500€.
ATTACH;FMTTYPE=image/jpeg:https://www.smac-lavier.org/wp-content/uploads/2
 024/12/visuel_auvergne.jpg
CATEGORIES:2ème Cycle,Formation de base
LOCATION:Maison Grenouille (63)\, 1 place de la mairie\, Pérignat-sur-Alli
 er\, 63800\, France
GEO:45.729318;3.232431
X-APPLE-STRUCTURED-LOCATION;VALUE=URI;X-ADDRESS=1 place de la mairie\, Pér
 ignat-sur-Allier\, 63800\, France;X-APPLE-RADIUS=100;X-TITLE=Maison Grenou
 ille (63):geo:45.729318,3.232431
END:VEVENT
BEGIN:VTIMEZONE
TZID:Europe/Paris
X-LIC-LOCATION:Europe/Paris
BEGIN:STANDARD
DTSTART:20231029T020000
TZOFFSETFROM:+0200
TZOFFSETTO:+0100
TZNAME:CET
END:STANDARD
END:VTIMEZONE
END:VCALENDAR