BEGIN:VCALENDAR
VERSION:2.0
PRODID:-//wp-events-plugin.com//6.6.3//EN
TZID:Europe/Paris
X-WR-TIMEZONE:Europe/Paris
BEGIN:VEVENT
UID:36@smac-lavier.org
DTSTART;TZID=Europe/Paris:20260205T000000
DTEND;TZID=Europe/Paris:20260426T000000
DTSTAMP:20251020T123626Z
URL:https://www.smac-lavier.org/evenements/enseignement-du-%e5%a4%aa%e6%a5
 %b5%e6%8b%b3-tai-tchi-tchuan/
SUMMARY:Enseignement du 太極拳 T'ai Tchi Tchuan
DESCRIPTION:Aucune date n'est précisée pour l'instant.\nPour toute inform
 ation à ce sujet\, merci de laisser un message sur la rubrique contact de
  notre site.
ATTACH;FMTTYPE=image/jpeg:https://www.smac-lavier.org/wp-content/uploads/2
 024/12/visuel_auvergne.jpg
END:VEVENT
BEGIN:VTIMEZONE
TZID:Europe/Paris
X-LIC-LOCATION:Europe/Paris
BEGIN:STANDARD
DTSTART:20251026T020000
TZOFFSETFROM:+0200
TZOFFSETTO:+0100
TZNAME:CET
END:STANDARD
BEGIN:DAYLIGHT
DTSTART:20260329T030000
TZOFFSETFROM:+0100
TZOFFSETTO:+0200
TZNAME:CEST
END:DAYLIGHT
END:VTIMEZONE
END:VCALENDAR